BEGIN:VCALENDAR
VERSION:2.0
PRODID:-//impul-z//Event//DE
CALSCALE:GREGORIAN
METHOD:PUBLISH
BEGIN:VEVENT
UID:event-1470@www.impul-z.ch
DTSTAMP:20260425T002310Z
DTSTART:20260627T153000Z
DTEND:20260627T215900Z
SUMMARY:Sommerkonzert 2026 - Grande Finale
DESCRIPTION:Wir laden Sie herzlich zu unserem Grande Finale - Sommerkonzert 2026 - unter der letztmaligen Leitung von Fabian Wirth ein.\nWann:  Samstag, 27. Juni 2026, ab 17.30 Uhr\nWo: Gemeindesaal Uzwil\nKonzertbeginn: 19.30 Uhr\nEintritt: frei - Kollekte\nGeniessen Sie bereits vor dem Konzert ab 17.30 Uhr unsere Festwirt-schaft. Im Anschluss an das Konzert lädt unsere Bar zum gemütlichen Verweilen ein - stossen Sie gemeinsam mit uns auf den Abschied von Fabian Wirth an. \nFreuen Sie sich auf ein abwechslungsreiches musikalisches Programm, das ganz im Zeichen dieses besonderen Grande Finales steht.\n\nWeitere Informationen: https://www.mvuh.ch
LOCATION:Uzwil
URL:https://www.impul-z.ch/event/1470/
END:VEVENT
END:VCALENDAR
