BEGIN:VCALENDAR
VERSION:2.0
PRODID:-//impul-z//Event//DE
CALSCALE:GREGORIAN
METHOD:PUBLISH
BEGIN:VEVENT
UID:event-1493@www.impul-z.ch
DTSTAMP:20260425T002315Z
DTSTART:20260506T170000Z
DTEND:20260506T180000Z
SUMMARY:Infoanlass Agenda und Helferplattform impul-z
DESCRIPTION:In einem Call werden wir euch die Funktionen im Mitgliederbereich sowie die Anwendung der Agenda und der Helferplattform zeigen.\nZudem beantworten wir Fragen und nehmen Rückmeldungen entgegen.
LOCATION:online
URL:https://www.impul-z.ch/event/1493/
END:VEVENT
END:VCALENDAR
