BEGIN:VCALENDAR
VERSION:2.0
PRODID:-//impul-z//Event//DE
CALSCALE:GREGORIAN
METHOD:PUBLISH
BEGIN:VEVENT
UID:event-1541@www.impul-z.ch
DTSTAMP:20260425T002417Z
DTSTART:20260608T120000Z
DTEND:20260608T143000Z
SUMMARY:Gschychtezyt
DESCRIPTION:Für Eltern mit Kindern zwischen ein und vier Jahren.\nVerse, Lieder und erste Geschichten sind für kleine Kinder das Tor zur Sprache. Tauchen Sie gemeinsam mit Ihrem Kind in diese Welt ein.\nLassen Sie Ihr Kind Sprache hautnah erleben und geniessen Sie die gemeinsame Zeit mit der Leseanimatorin Marianne Wäspe.\nAm Mittwoch, 8. Juni 2026, finden drei Geschichtezyte statt:\n- 14:00-14:30\n- 15:00-15:30\n- 16:00-16:30
LOCATION:Bibliothek Uzwil
URL:https://www.impul-z.ch/event/1541/
END:VEVENT
END:VCALENDAR
