BEGIN:VCALENDAR
VERSION:2.0
PRODID:-//impul-z//Event//DE
CALSCALE:GREGORIAN
METHOD:PUBLISH
BEGIN:VEVENT
UID:event-1574@www.impul-z.ch
DTSTAMP:20260425T002452Z
DTSTART:20260610T113000Z
DTEND:20260610T140000Z
SUMMARY:Schülerschachturnier
DESCRIPTION:
LOCATION:Niederuzwil
URL:https://www.impul-z.ch/event/1574/
END:VEVENT
END:VCALENDAR
