BEGIN:VCALENDAR
VERSION:2.0
PRODID:-//impul-z//Event//DE
CALSCALE:GREGORIAN
METHOD:PUBLISH
BEGIN:VEVENT
UID:event-951@www.impul-z.ch
DTSTAMP:20260421T083458Z
DTSTART:20260307T070000Z
DTEND:20260314T150000Z
SUMMARY:IVR 1 (NHK + BLS/AED)
DESCRIPTION:Im Kurs First Aid Stufe 1 IVR erlernen Sie die Grundlage der lebensrettenden Sofortmassnahmen in Notfallsituationen. Der Kurs ermöglicht es Ihnen, im Alltag, bei der Arbeit oder in der Freizeit, Erste Hilfe zu leisten. Der Kurs beinhaltet auch den Kurs BLS-AED-SRC komplett, sowie den obligatorischen Nothilfekurs für Führerausweiserwerbende.\n\nWeitere Informationen: https://www.samariterverein-uzwil.ch
LOCATION:Feuerwehr Depot Bienenstrasse 35
URL:https://www.impul-z.ch/event/951/
END:VEVENT
END:VCALENDAR
