BEGIN:VCALENDAR
VERSION:2.0
PRODID:-//impul-z//Event//DE
CALSCALE:GREGORIAN
METHOD:PUBLISH
BEGIN:VEVENT
UID:event-964@www.impul-z.ch
DTSTAMP:20260421T083713Z
DTSTART:20260316T180000Z
DTEND:20260316T210000Z
SUMMARY:Hauptversammlung Verein impul-z
DESCRIPTION:
LOCATION:Gemäss persönlicher Einladung
URL:https://www.impul-z.ch/event/964/
END:VEVENT
END:VCALENDAR
